BEGIN:VCALENDAR
VERSION:2.0
PRODID:-//TwinCities Tamil Association - ECPv6.15.20//NONSGML v1.0//EN
CALSCALE:GREGORIAN
METHOD:PUBLISH
X-WR-CALNAME:TwinCities Tamil Association
X-ORIGINAL-URL:https://tctamn.org
X-WR-CALDESC:Events for TwinCities Tamil Association
REFRESH-INTERVAL;VALUE=DURATION:PT1H
X-Robots-Tag:noindex
X-PUBLISHED-TTL:PT1H
BEGIN:VTIMEZONE
TZID:America/Chicago
BEGIN:DAYLIGHT
TZOFFSETFROM:-0600
TZOFFSETTO:-0500
TZNAME:CDT
DTSTART:20240310T080000
END:DAYLIGHT
BEGIN:STANDARD
TZOFFSETFROM:-0500
TZOFFSETTO:-0600
TZNAME:CST
DTSTART:20241103T070000
END:STANDARD
BEGIN:DAYLIGHT
TZOFFSETFROM:-0600
TZOFFSETTO:-0500
TZNAME:CDT
DTSTART:20250309T080000
END:DAYLIGHT
BEGIN:STANDARD
TZOFFSETFROM:-0500
TZOFFSETTO:-0600
TZNAME:CST
DTSTART:20251102T070000
END:STANDARD
BEGIN:DAYLIGHT
TZOFFSETFROM:-0600
TZOFFSETTO:-0500
TZNAME:CDT
DTSTART:20260308T080000
END:DAYLIGHT
BEGIN:STANDARD
TZOFFSETFROM:-0500
TZOFFSETTO:-0600
TZNAME:CST
DTSTART:20261101T070000
END:STANDARD
END:VTIMEZONE
BEGIN:VEVENT
DTSTART;TZID=America/Chicago:20250406T180000
DTEND;TZID=America/Chicago:20250406T210000
DTSTAMP:20260419T194715
CREATED:20250221T010758Z
LAST-MODIFIED:20250221T010758Z
UID:4494-1743962400-1743973200@tctamn.org
SUMMARY:Standup Comedy show Vikkals of Vikram - USA Tour
DESCRIPTION:The Twin Cities Tamil Association presents an unforgettable evening of laughter with the hilarious Vikram in his standup comedy show “Vikkals Of Vikram” – 90+ minutes of non-stop comedy in Tamil! \n Special Perks for TCTA Members –    Use MEMBER20 to get 20% discount + no processing fee. \n Group Booking Offer\nPlanning to attend with friends and family? For group bookings of 10 or more\, please write to contactus@tctamn.org for special arrangements. \nJoin us for a fun night\, of laughter\, and Tamil humor like never before!
URL:https://tctamn.org/event/standup-comedy-show-vikkals-of-vikram-usa-tour/
LOCATION:Eisenhower Community Center\, 1001 MN-7\,\, Hopkins\, MN\, MN\, 55305\, United States
ATTACH;FMTTYPE=image/jpeg:https://tctamn.org/wp-content/uploads/2025/02/WhatsApp-Image-2025-02-18-at-7.39.31-PM.jpeg
ORGANIZER;CN="TwinCities Tamil Association":MAILTO:contactus@tctamn.org
END:VEVENT
BEGIN:VEVENT
DTSTART;TZID=America/Chicago:20250406T180000
DTEND;TZID=America/Chicago:20250406T210000
DTSTAMP:20260419T194715
CREATED:20250326T122456Z
LAST-MODIFIED:20250406T062853Z
UID:4497-1743962400-1743973200@tctamn.org
SUMMARY:Standup Comedy show Vikkals of Vikram - USA Tour -- Food Sale
DESCRIPTION:The Twin Cities Tamil Association presents an unforgettable evening of laughter with the hilarious Vikram in his standup comedy show “Vikkals Of Vikram” – 90+ minutes of non-stop comedy in Tamil! \n Special Perks for TCTA Members –    Use MEMBER20 to get 20% discount + no processing fee. \n Group Booking Offer\nPlanning to attend with friends and family? For group bookings of 10 or more\, please write to contactus@tctamn.org for special arrangements. \nJoin us for a fun night\, of laughter\, and Tamil humor like never before!
URL:https://tctamn.org/event/standup-comedy-show-vikkals-of-vikram-usa-tour-food-sale/
LOCATION:Eisenhower Community Center\, 1001 MN-7\,\, Hopkins\, MN\, MN\, 55305\, United States
ATTACH;FMTTYPE=image/jpeg:https://tctamn.org/wp-content/uploads/2025/03/VV.jpg
ORGANIZER;CN="TwinCities Tamil Association":MAILTO:contactus@tctamn.org
END:VEVENT
END:VCALENDAR