BEGIN:VCALENDAR
VERSION:2.0
PRODID:-//TwinCities Tamil Association - ECPv6.15.20//NONSGML v1.0//EN
CALSCALE:GREGORIAN
METHOD:PUBLISH
X-WR-CALNAME:TwinCities Tamil Association
X-ORIGINAL-URL:https://tctamn.org
X-WR-CALDESC:Events for TwinCities Tamil Association
REFRESH-INTERVAL;VALUE=DURATION:PT1H
X-Robots-Tag:noindex
X-PUBLISHED-TTL:PT1H
BEGIN:VTIMEZONE
TZID:America/Chicago
BEGIN:DAYLIGHT
TZOFFSETFROM:-0600
TZOFFSETTO:-0500
TZNAME:CDT
DTSTART:20240310T080000
END:DAYLIGHT
BEGIN:STANDARD
TZOFFSETFROM:-0500
TZOFFSETTO:-0600
TZNAME:CST
DTSTART:20241103T070000
END:STANDARD
BEGIN:DAYLIGHT
TZOFFSETFROM:-0600
TZOFFSETTO:-0500
TZNAME:CDT
DTSTART:20250309T080000
END:DAYLIGHT
BEGIN:STANDARD
TZOFFSETFROM:-0500
TZOFFSETTO:-0600
TZNAME:CST
DTSTART:20251102T070000
END:STANDARD
BEGIN:DAYLIGHT
TZOFFSETFROM:-0600
TZOFFSETTO:-0500
TZNAME:CDT
DTSTART:20260308T080000
END:DAYLIGHT
BEGIN:STANDARD
TZOFFSETFROM:-0500
TZOFFSETTO:-0600
TZNAME:CST
DTSTART:20261101T070000
END:STANDARD
END:VTIMEZONE
BEGIN:VEVENT
DTSTART;TZID=America/Chicago:20250413T120000
DTEND;TZID=America/Chicago:20250413T180000
DTSTAMP:20260419T183156
CREATED:20250329T143343Z
LAST-MODIFIED:20250329T144705Z
UID:4506-1744545600-1744567200@tctamn.org
SUMMARY:Tamil Talent Competitions 2025
DESCRIPTION:அன்பான பெற்றோர்களே\, \nடுவின்சிட்டீஸ் தமிழ் பாடசாலையின் தமிழ் அறிவுத்திறன் போட்டிகள் – 2025 கான பதிவுகளை அறிவிப்பதில் நாங்கள் மிகவும் மகிழ்ச்சியடைகிறோம். \nகுழந்தைகள் முதல் உயர் பள்ளி மாணவர்கள் வரை அனைவருக்கும் போட்டிகள் !!!\nவாருங்கள் வெற்றி கோப்பையை வெல்லுங்கள் !!!\nஉங்களோடு நாங்களும் ஆவலாக காத்திருக்கிறோம் !!! \nஉங்கள் குழந்தைகளின் அறிவுத்திறனை மேலும் உலகறிய\nபதிவு இணைப்பைப் பின்தொடரவும் \nhttp://bit.ly/TCTP-TamilTalent-2025
URL:https://tctamn.org/event/tamil-talent-competitions-2025/
LOCATION:Hopkins High School\, 2400 Royals Drive\, Minnetonka\, MN\, 55305\, United States
CATEGORIES:Education
ATTACH;FMTTYPE=image/jpeg:https://tctamn.org/wp-content/uploads/2025/03/TCTP-TamilTalent-2025-1.jpg
ORGANIZER;CN="TwinCities Tamil Paadasalai":MAILTO:contactus@tctpmn.org
END:VEVENT
END:VCALENDAR