BEGIN:VCALENDAR
VERSION:2.0
PRODID:-//TwinCities Tamil Association - ECPv6.15.20//NONSGML v1.0//EN
CALSCALE:GREGORIAN
METHOD:PUBLISH
X-ORIGINAL-URL:https://tctamn.org
X-WR-CALDESC:Events for TwinCities Tamil Association
REFRESH-INTERVAL;VALUE=DURATION:PT1H
X-Robots-Tag:noindex
X-PUBLISHED-TTL:PT1H
BEGIN:VTIMEZONE
TZID:America/Chicago
BEGIN:DAYLIGHT
TZOFFSETFROM:-0600
TZOFFSETTO:-0500
TZNAME:CDT
DTSTART:20240310T080000
END:DAYLIGHT
BEGIN:STANDARD
TZOFFSETFROM:-0500
TZOFFSETTO:-0600
TZNAME:CST
DTSTART:20241103T070000
END:STANDARD
BEGIN:DAYLIGHT
TZOFFSETFROM:-0600
TZOFFSETTO:-0500
TZNAME:CDT
DTSTART:20250309T080000
END:DAYLIGHT
BEGIN:STANDARD
TZOFFSETFROM:-0500
TZOFFSETTO:-0600
TZNAME:CST
DTSTART:20251102T070000
END:STANDARD
BEGIN:DAYLIGHT
TZOFFSETFROM:-0600
TZOFFSETTO:-0500
TZNAME:CDT
DTSTART:20260308T080000
END:DAYLIGHT
BEGIN:STANDARD
TZOFFSETFROM:-0500
TZOFFSETTO:-0600
TZNAME:CST
DTSTART:20261101T070000
END:STANDARD
BEGIN:DAYLIGHT
TZOFFSETFROM:-0600
TZOFFSETTO:-0500
TZNAME:CDT
DTSTART:20270314T080000
END:DAYLIGHT
BEGIN:STANDARD
TZOFFSETFROM:-0500
TZOFFSETTO:-0600
TZNAME:CST
DTSTART:20271107T070000
END:STANDARD
END:VTIMEZONE
BEGIN:VEVENT
DTSTART;TZID=America/Chicago:20250810T113000
DTEND;TZID=America/Chicago:20250810T170000
DTSTAMP:20260420T001506
CREATED:20250728T005510Z
LAST-MODIFIED:20250728T005510Z
UID:4808-1754825400-1754845200@tctamn.org
SUMMARY:TwinCities Tamil Summer Picnic 2025
DESCRIPTION:Dear TCTA / TCTP / Tamil Families\,\nYou’re invited to our Annual Summer Picnic! Hosted by TwinCities Tamil Association\, it’s going to be a fun-filled day for all ages! \n\n\n RSVP Now – https://tinyurl.com/TCTA-Summer-Picnic-2025\n\n\n Open to all Tamil families in the Twin Cities\n Potluck encouraged\, but not mandatory – come enjoy the day!\n\n\n Expect:  Tasty food\n Games for kids & adults\n Great company!\n\n\n Verify your TCTA Membership:\nhttps://tctamn.org/account/?action=subscriptions/\n\n\n Not a Member?\nJoin or Renew: https://tctamn.org/member-signup/\nSupport us: https://tctamn.org/donation/\n\n\n TCTP 2025–26 early bird discount ending soon!\nRegister now: https://tctamn.org/tctp-school-registration/\n\n\nSee you at the picnic!
URL:https://tctamn.org/event/twincities-tamil-summer-picnic-2025/
LOCATION:Hyland Lake Park Reserve\, 10145 Bush Lake Rd\, Bloomington\, MN\, 55438\, United States
ATTACH;FMTTYPE=image/jpeg:https://tctamn.org/wp-content/uploads/2025/07/518879758_1132258492268319_1250999715433048781_n.jpg
ORGANIZER;CN="TwinCities Tamil Association":MAILTO:contactus@tctamn.org
END:VEVENT
BEGIN:VEVENT
DTSTART;TZID=America/Chicago:20250927T110000
DTEND;TZID=America/Chicago:20250927T130000
DTSTAMP:20260420T001506
CREATED:20250828T023653Z
LAST-MODIFIED:20250828T094942Z
UID:4833-1758970800-1758978000@tctamn.org
SUMMARY:College Planning Session
DESCRIPTION:
URL:https://tctamn.org/event/college-planning-session/
LOCATION:MN
ORGANIZER;CN="TwinCities Tamil Association":MAILTO:contactus@tctamn.org
END:VEVENT
BEGIN:VEVENT
DTSTART;TZID=America/Chicago:20251221T120000
DTEND;TZID=America/Chicago:20251221T170000
DTSTAMP:20260420T001506
CREATED:20251121T151247Z
LAST-MODIFIED:20251121T161633Z
UID:5104-1766318400-1766336400@tctamn.org
SUMMARY:Celebration of Service
DESCRIPTION:This is our day to recognize and celebrate your dedicated service and profound impact on our community. We want to thank the volunteers\, along with their families\, who support them every step of the way. \nVolunteers will be getting Rthe SVP link via Email. \n 
URL:https://tctamn.org/event/celebration-of-service/
LOCATION:Minnetonka Community  Center\, 14600 Minnetonka Blvd\, Minnetonka\, United States
ATTACH;FMTTYPE=image/jpeg:https://tctamn.org/wp-content/uploads/2025/11/WebsiteBanner.jpg
ORGANIZER;CN="TwinCities Tamil Association":MAILTO:contactus@tctamn.org
END:VEVENT
BEGIN:VEVENT
DTSTART;TZID=America/Chicago:20260124T120000
DTEND;TZID=America/Chicago:20260124T200000
DTSTAMP:20260420T001506
CREATED:20251121T161419Z
LAST-MODIFIED:20260102T005141Z
UID:5112-1769256000-1769284800@tctamn.org
SUMMARY:Thamizhar Thiruvizha 2026
DESCRIPTION:தமிழர் திருவிழா 2026 \n  \nதமிழர் திருநாளாம் பொங்கல் பண்டிகையை உங்கள் குடும்பத்தினருடன் கொண்டாட TCTA உங்களை குடும்பத்தினருடன் அன்புடன் அழைக்கின்றது.  என்ணனற்ற கலை நிகழ்ச்சிகளுடன் சுவையான உணவு வகைகள் !!! \nGreetings from TwinCities Tamil Association – your cultural haven in Minnesota!  \nJoin TwinCities Tamil Association in Minnesota! We aim to strengthen the Tamil community through events\, language education\, and cultural celebration. With over 150 volunteers\, our Paadasalai teaches Tamil to 500 students across 5 locations. \nBy becoming a member\, you’ll get:\n– Free entry to major events\n– Discounts on family tickets\n– Educational conferences\n– Event notifications \nYour support helps us promote our culture\, unite families\, educate children\, and showcase talents. Please use the link above and purchase a 2025 membership.
URL:https://tctamn.org/event/thamizhar-thiruvizha-2026/
LOCATION:Wayzata Central Middle School\, 305 Vicksburg Ln N\, Plymouth\, MN\, 55447\, United States
ATTACH;FMTTYPE=image/jpeg:https://tctamn.org/wp-content/uploads/2025/11/WhatsApp-Image-2025-12-30-at-9.18.32-PM.jpeg
ORGANIZER;CN="TwinCities Tamil Association":MAILTO:contactus@tctamn.org
END:VEVENT
BEGIN:VEVENT
DTSTART;TZID=America/Chicago:20260124T120000
DTEND;TZID=America/Chicago:20260124T200000
DTSTAMP:20260420T001506
CREATED:20251230T015624Z
LAST-MODIFIED:20260123T180422Z
UID:5127-1769256000-1769284800@tctamn.org
SUMMARY:Thamizhar Thiruvizha 2026 -- Food Sale
DESCRIPTION:தமிழர் திருவிழா 2026 \n  \nதமிழர் திருநாளாம் பொங்கல் பண்டிகையை உங்கள் குடும்பத்தினருடன் கொண்டாட TCTA உங்களை குடும்பத்தினருடன் அன்புடன் அழைக்கின்றது.  என்ணனற்ற கலை நிகழ்ச்சிகளுடன் சுவையான உணவு வகைகள் !!! \nGreetings from TwinCities Tamil Association – your cultural haven in Minnesota!  \nJoin TwinCities Tamil Association in Minnesota! We aim to strengthen the Tamil community through events\, language education\, and cultural celebration. With over 150 volunteers\, our Paadasalai teaches Tamil to 500 students across 5 locations. \nBy becoming a member\, you’ll get:\n– Free entry to major events\n– Discounts on family tickets\n– Educational conferences\n– Event notifications \nYour support helps us promote our culture\, unite families\, educate children\, and showcase talents. Please use the link above and purchase a 2025 membership.
URL:https://tctamn.org/event/thamizhar-thiruvizha-2026-food-sale/
LOCATION:Wayzata Central Middle School\, 305 Vicksburg Ln N\, Plymouth\, MN\, 55447\, United States
CATEGORIES:Arts and Culture,Festival
ATTACH;FMTTYPE=image/jpeg:https://tctamn.org/wp-content/uploads/2025/11/WhatsApp-Image-2025-12-31-at-5.50.19-AM.jpeg
ORGANIZER;CN="TwinCities Tamil Association":MAILTO:contactus@tctamn.org
END:VEVENT
BEGIN:VEVENT
DTSTART;TZID=America/Chicago:20260131T130000
DTEND;TZID=America/Chicago:20260131T170000
DTSTAMP:20260420T001506
CREATED:20251121T152844Z
LAST-MODIFIED:20260222T140734Z
UID:5108-1769864400-1769878800@tctamn.org
SUMMARY:Tamil Story Writing Workshop
DESCRIPTION:🌟 TCTP – First-Ever Tamil Story Writing Workshop! 🌟 \nTCTP Tamil School is super excited to introduce our first-ever Tamil Story Writing Workshop!If you’ve ever wanted to try your hand at storytelling — creating characters\, building worlds\, or just letting your imagination run wild — this is your moment. \nThis workshop is designed for students who love Tamil and want to explore the fun\, creative side of the language. Through simple exercises\, guided prompts\, and interactive activities\, students will learn how to: \n✨ Create engaging characters✨ Build interesting storylines✨ Write in clear\, expressive Tamil✨ Find their own “voice” as a writer \nIt doesn’t matter if you’ve written stories before or are trying it for the first time — all TCTP Grade 2 and above kids are welcome! \nLet the creativity flow. Let’s make stories that only you can write!  RSVP Now !!!  \nThanks to all the Kids\, the result was … \nநம் மாணவர்கள் கதை படிப்பவர்கள் அல்ல கதை படைப்பவர்கள்!!!
URL:https://tctamn.org/event/tamil-story-writing-workshop/
LOCATION:Eden Prairie Library\, 565 Prairie Center Dr.\, Eden Prairie\, MN\, 55344\, United States
ATTACH;FMTTYPE=image/jpeg:https://tctamn.org/wp-content/uploads/2025/11/WebsiteBanner-1.jpg
ORGANIZER;CN="TwinCities Tamil Paadasalai":MAILTO:contactus@tctpmn.org
END:VEVENT
BEGIN:VEVENT
DTSTART;TZID=America/Chicago:20260228T113000
DTEND;TZID=America/Chicago:20260228T140000
DTSTAMP:20260420T001506
CREATED:20260201T234225Z
LAST-MODIFIED:20260204T153736Z
UID:6171-1772278200-1772287200@tctamn.org
SUMMARY:FMSC Food packing Event
DESCRIPTION:As part of giving back to the community\, TCTA  is organizing a food packing event @ FMSC -Maple Grove (Mobile Packing site)\nClick the Link below\, Limited Spots available.\n\nIt is FREE Event Open for All\, bring your family friends; let us work together to fight against hunger!\n\nRegister Now\n  \n 
URL:https://tctamn.org/event/fmsc-food-packing-event/
LOCATION:St. Joseph the Worker Catholic Church Maple Grove\, MN\, 7180 Hemlock Lane North\, Maple Grove\, MN\, 55369\, United States
ORGANIZER;CN="TwinCities Tamil Association":MAILTO:contactus@tctamn.org
END:VEVENT
BEGIN:VEVENT
DTSTART;TZID=America/Chicago:20260314T110000
DTEND;TZID=America/Chicago:20260314T170000
DTSTAMP:20260420T001506
CREATED:20260131T152009Z
LAST-MODIFIED:20260215T202829Z
UID:6175-1773486000-1773507600@tctamn.org
SUMMARY:TCTA Annual Science Fair 2026
DESCRIPTION:It’s time again to unleash your creativity side in Science \nAnnual TCTA science fair registration is open now!! \n02/15/2026 – Parent Orientation – Download your Presentation – Click here  \n  \nRegister students here https://forms.gle/BwaAguDPaiuiPCt26 \nIf you are someone who loves to be part of judging process with an orientation please register for judging here https://forms.gle/a3UyN9mUT4ywrSFS9 \nFor Any questions \, please contact us @ Contactus@tctamn.org
URL:https://tctamn.org/event/tcta-annual-science-fair-2026/
LOCATION:Central Middle School- Eden Prairie\, 8025 School Rd\, Eden Prairie\, 55344\, United States
ATTACH;FMTTYPE=image/jpeg:https://tctamn.org/wp-content/uploads/2026/01/FMSC-TCTA-3.jpg
ORGANIZER;CN="TwinCities Tamil Association":MAILTO:contactus@tctamn.org
END:VEVENT
BEGIN:VEVENT
DTSTART;TZID=America/Chicago:20260404T120000
DTEND;TZID=America/Chicago:20260404T170000
DTSTAMP:20260420T001506
CREATED:20260220T220454Z
LAST-MODIFIED:20260227T183927Z
UID:6273-1775304000-1775322000@tctamn.org
SUMMARY:TCTP Tamil Talent Competitions 2026
DESCRIPTION:TCTP- தமிழ் அறிவுத்திறன் போட்டிகள் -2026 \n\nடுவின்சிட்டீஸ் தமிழ் அறிவுத்திறன் போட்டிகள் 2026 அறிவிப்பதில் பெருமகிழ்ச்சி அடைகிறோம். நமது வழக்கமான போட்டிகள் இன்னும் புதிய வடிவில்!!! இந்த வருடம் புதிய போட்டி “தமிழ் ஓசை”\, மாணவர்களுக்கான தமிழ் கேட்டல் திறன் போட்டி. \n\nபதிவு தொடங்கியுள்ளது – இப்போது பதிவு செய்யுங்கள்!\nhttps://forms.gle/WcXHigfX6qzzWVeA9 \n  \nMark your days. Apr 4\, Apr 11\, Apr 18\, Apr 26 – 2026 From 12:00 PM – 05:00 PM
URL:https://tctamn.org/event/tctp-tamil-talent-competitions-2026/
LOCATION:Ridgedale library\, 12601 Ridgedale Dr\, \, MN\, Minnetonka\, MN\, 55305
ATTACH;FMTTYPE=image/jpeg:https://tctamn.org/wp-content/uploads/2026/02/TCTP-Talent-2026-6.jpg
ORGANIZER;CN="TwinCities Tamil Paadasalai":MAILTO:contactus@tctpmn.org
END:VEVENT
BEGIN:VEVENT
DTSTART;TZID=America/Chicago:20260405T110000
DTEND;TZID=America/Chicago:20260405T121500
DTSTAMP:20260420T001506
CREATED:20260226T133514Z
LAST-MODIFIED:20260304T131607Z
UID:6378-1775386800-1775391300@tctamn.org
SUMMARY:TCTA-Setting up Success in Highschool- Learning outcomes
DESCRIPTION:We are excited to host a webinar on High school success event in partnership with HOW 2 WRITE .  It is designed for Middle school and High school students and families\, this series provides roadmap to navigate US High School system with confidence and covering academics\, planning\, testing\, and personal growth.\n\nSession #1 – Learning outcomes\n1. Understanding Credits\, Grade Point Average\, and Academic Planning\n2. Learn the value of AP(Advanced Placement) and IB(International Baccalaureate) Programs and when to consider them.\n3. Gain clarify Standardized Testing: SAT\, PSAT\, and ACT Overview\n4. Live Q & A \nNote \n\nRegistration is mandatary. The live meeting link will be shared with registered email id one day before the event.\nThis event is offered completely FREE for the benefit of our community. You are warmly encouraged to share the event details with your friends and families so everyone can join in and enjoy the experience.\nThis Event will not be recorded\, so it will not be available for your future reference.\n\nClick here to Register. 
URL:https://tctamn.org/event/tcta-setting-up-success-in-highschool/
LOCATION:MN
ATTACH;FMTTYPE=image/jpeg:https://tctamn.org/wp-content/uploads/2026/02/TCTA-HOW2WRITE-HS-Success.jpg
ORGANIZER;CN="TwinCities Tamil Association":MAILTO:contactus@tctamn.org
END:VEVENT
BEGIN:VEVENT
DTSTART;TZID=America/Chicago:20260411T120000
DTEND;TZID=America/Chicago:20260411T170000
DTSTAMP:20260420T001506
CREATED:20260222T014940Z
LAST-MODIFIED:20260227T184142Z
UID:6282-1775908800-1775926800@tctamn.org
SUMMARY:TCTP Tamil Talent Competitions 2026 -Week 2
DESCRIPTION:TCTP- தமிழ் அறிவுத்திறன் போட்டிகள் -2026 \n\nடுவின்சிட்டீஸ் தமிழ் அறிவுத்திறன் போட்டிகள் 2026 அறிவிப்பதில் பெருமகிழ்ச்சி அடைகிறோம். நமது வழக்கமான போட்டிகள் இன்னும் புதிய வடிவில்!!! இந்த வருடம் புதிய போட்டி “தமிழ் ஓசை”\, மாணவர்களுக்கான தமிழ் கேட்டல் திறன் போட்டி. \n\nபதிவு தொடங்கியுள்ளது – இப்போது பதிவு செய்யுங்கள்!\nhttps://forms.gle/WcXHigfX6qzzWVeA9 \n  \nMark your days. Apr 4\, Apr 11\, Apr 18\, Apr 26 – 2026 From 12:00 PM – 05:00 PM
URL:https://tctamn.org/event/tctp-tamil-talent-competitions-2026-week-2/
LOCATION:Ridgedale library\, 12601 Ridgedale Dr\, \, MN\, Minnetonka\, MN\, 55305
ATTACH;FMTTYPE=image/jpeg:https://tctamn.org/wp-content/uploads/2026/02/TCTP-Talent-2026-6.jpg
ORGANIZER;CN="TwinCities Tamil Paadasalai":MAILTO:contactus@tctpmn.org
END:VEVENT
BEGIN:VEVENT
DTSTART;TZID=America/Chicago:20260412T110000
DTEND;TZID=America/Chicago:20260412T123000
DTSTAMP:20260420T001506
CREATED:20260226T133725Z
LAST-MODIFIED:20260304T131919Z
UID:6382-1775991600-1775997000@tctamn.org
SUMMARY:TCTA - Setting up success in Highschool-Standard Testing and Extracurricular
DESCRIPTION:We are excited to host a webinar on High school success event in partnership with HOW 2 WRITE .  It is designed for Middle school and High school students and families\, this series provides roadmap to navigate US High School system with confidence and covering academics\, planning\, testing\, and personal growth.\n\nSession #2 – Standard Testing\, Extracurricular\n1. Understanding SAT/PSAT and how testing fits into long-term planning \n2. Learn how extracurricular activities support college and personal growth \n3. Build strategies for balance\, well-being\, and strong relationships in high school \n4. Live Q & A \nNote \n\nRegistration is mandatary. The live meeting link will be shared with registered email id one day before the event.\nThis event is offered completely FREE for the benefit of our community. You are warmly encouraged to share the event details with your friends and families so everyone can join in and enjoy the experience.\nThis Event will not be recorded\, so it will not be available for your future reference.\n\nClick here to Register. \n\nTCTA Webinar high school success
URL:https://tctamn.org/event/tcta-setting-up-success-in-highschool-session-2/
LOCATION:MN
ATTACH;FMTTYPE=image/jpeg:https://tctamn.org/wp-content/uploads/2026/02/TCTA-HOW2WRITE-HS-Success.jpg
END:VEVENT
BEGIN:VEVENT
DTSTART;TZID=America/Chicago:20260418T120000
DTEND;TZID=America/Chicago:20260418T170000
DTSTAMP:20260420T001506
CREATED:20260222T015024Z
LAST-MODIFIED:20260227T184309Z
UID:6284-1776513600-1776531600@tctamn.org
SUMMARY:TCTP Tamil Talent Competitions 2026 -Week 3
DESCRIPTION:TCTP- தமிழ் அறிவுத்திறன் போட்டிகள் -2026 \n\nடுவின்சிட்டீஸ் தமிழ் அறிவுத்திறன் போட்டிகள் 2026 அறிவிப்பதில் பெருமகிழ்ச்சி அடைகிறோம். நமது வழக்கமான போட்டிகள் இன்னும் புதிய வடிவில்!!! இந்த வருடம் புதிய போட்டி “தமிழ் ஓசை”\, மாணவர்களுக்கான தமிழ் கேட்டல் திறன் போட்டி. \n\nபதிவு தொடங்கியுள்ளது – இப்போது பதிவு செய்யுங்கள்!\nhttps://forms.gle/WcXHigfX6qzzWVeA9 \n  \nMark your days. Apr 4\, Apr 11\, Apr 18\, Apr 26 – 2026 From 12:00 PM – 05:00 PM
URL:https://tctamn.org/event/tctp-tamil-talent-competitions-2026-week-3/
LOCATION:Eden Prairie Library\, 565 Prairie Center Dr.\, Eden Prairie\, MN\, 55344\, United States
ATTACH;FMTTYPE=image/jpeg:https://tctamn.org/wp-content/uploads/2026/02/TCTP-Talent-2026-6.jpg
ORGANIZER;CN="TwinCities Tamil Paadasalai":MAILTO:contactus@tctpmn.org
END:VEVENT
BEGIN:VEVENT
DTSTART;TZID=America/Chicago:20260426T120000
DTEND;TZID=America/Chicago:20260426T170000
DTSTAMP:20260420T001506
CREATED:20260222T015231Z
LAST-MODIFIED:20260227T183839Z
UID:6286-1777204800-1777222800@tctamn.org
SUMMARY:TCTP Tamil Talent Competitions 2026 -Week 4
DESCRIPTION:TCTP- தமிழ் அறிவுத்திறன் போட்டிகள் -2026 \n\nடுவின்சிட்டீஸ் தமிழ் அறிவுத்திறன் போட்டிகள் 2026 அறிவிப்பதில் பெருமகிழ்ச்சி அடைகிறோம். நமது வழக்கமான போட்டிகள் இன்னும் புதிய வடிவில்!!! இந்த வருடம் புதிய போட்டி “தமிழ் ஓசை”\, மாணவர்களுக்கான தமிழ் கேட்டல் திறன் போட்டி. \n\nபதிவு தொடங்கியுள்ளது – இப்போது பதிவு செய்யுங்கள்!\nhttps://forms.gle/WcXHigfX6qzzWVeA9 \n  \nMark your days. Apr 4\, Apr 11\, Apr 18\, Apr 26 – 2026 From 12:00 PM – 05:00 PM
URL:https://tctamn.org/event/tctp-tamil-talent-competitions-2026-week-4/
LOCATION:Plymouth Library\, 15700 36th Ave N\, Plymouth\, MN\, Plymouth\, 55446\, United States
ATTACH;FMTTYPE=image/jpeg:https://tctamn.org/wp-content/uploads/2026/02/TCTP-Talent-2026-6.jpg
ORGANIZER;CN="TwinCities Tamil Paadasalai":MAILTO:contactus@tctpmn.org
END:VEVENT
BEGIN:VEVENT
DTSTART;TZID=America/Chicago:20260529T180000
DTEND;TZID=America/Chicago:20260529T200000
DTSTAMP:20260420T001506
CREATED:20260413T040318Z
LAST-MODIFIED:20260417T151039Z
UID:6525-1780077600-1780084800@tctamn.org
SUMMARY:Jagane Thandhiram Tamil Musical Standup Comedy Show – Minneapolis
DESCRIPTION:Get ready to laugh your heart out with some killer Tamil musical standup vibes at this one-of-a-kind show! \n\n\n\n\nJokes. Music. Love. He has got it all in this one package! 🌟 After successfully touring across the world\, Standup Comedian JAGAN KRISHNAN is bringing his first and most close to heart show – JAGANE THANDHIRAM\, a Musical Standup Comedy Show\, to multiple cities in the 🇺🇸 USA for the 1st time ever !!! 🎤🕺🏽 Come catch this art of love filled with funnies live and get to know how he got through quite a few awkward & embarrassing heartbreaks before finally finding the love of his life in this hilarious musical journey! 😁🥰🎶 Jagane Thandhiram is packed with his quirky observational humour\, original lyrics and music in his signature tone\, relatable jokes and the craziest journey of a 90’s kid – his love story. :) FAMILY FRIENDLY | ORIGINAL SONGS | ROMANTIC-COMEDY MUSICAL | HEART WARMING | TAMIL & ENGLISH Book your tickets now\, for a never-before musical comedy experience! 😁🎵 Brought to you by TCTA \nBook Ticket Now… \n\nWith your TCTA Family/Individual membership you may get 20% Off on Ticket price using coupon “TCTA20” which is valid up to 04/30/2026. \nNon TCTA members use coupon “EARLYBIRD” to get 10% Off; which is valid up to  04/30/2026. \n\nBoxed Dinner option will be available\, wait for Food sale link. \n  \n 
URL:https://tctamn.org/event/jagane-thandhiram-tamil-musical-standup-comedy-show-minneapolis/
LOCATION:Hopkins High School\, 2400 Royals Drive\, Minnetonka\, MN\, 55305\, United States
ATTACH;FMTTYPE=image/jpeg:https://tctamn.org/wp-content/uploads/2026/04/TCTA-JT-24-36-2.jpg
ORGANIZER;CN="TwinCities Tamil Association":MAILTO:contactus@tctamn.org
END:VEVENT
END:VCALENDAR