BEGIN:VCALENDAR
VERSION:2.0
PRODID:-//TwinCities Tamil Association - ECPv6.15.20//NONSGML v1.0//EN
CALSCALE:GREGORIAN
METHOD:PUBLISH
X-WR-CALNAME:TwinCities Tamil Association
X-ORIGINAL-URL:https://tctamn.org
X-WR-CALDESC:Events for TwinCities Tamil Association
REFRESH-INTERVAL;VALUE=DURATION:PT1H
X-Robots-Tag:noindex
X-PUBLISHED-TTL:PT1H
BEGIN:VTIMEZONE
TZID:America/Chicago
BEGIN:DAYLIGHT
TZOFFSETFROM:-0600
TZOFFSETTO:-0500
TZNAME:CDT
DTSTART:20230312T080000
END:DAYLIGHT
BEGIN:STANDARD
TZOFFSETFROM:-0500
TZOFFSETTO:-0600
TZNAME:CST
DTSTART:20231105T070000
END:STANDARD
BEGIN:DAYLIGHT
TZOFFSETFROM:-0600
TZOFFSETTO:-0500
TZNAME:CDT
DTSTART:20240310T080000
END:DAYLIGHT
BEGIN:STANDARD
TZOFFSETFROM:-0500
TZOFFSETTO:-0600
TZNAME:CST
DTSTART:20241103T070000
END:STANDARD
BEGIN:DAYLIGHT
TZOFFSETFROM:-0600
TZOFFSETTO:-0500
TZNAME:CDT
DTSTART:20250309T080000
END:DAYLIGHT
BEGIN:STANDARD
TZOFFSETFROM:-0500
TZOFFSETTO:-0600
TZNAME:CST
DTSTART:20251102T070000
END:STANDARD
END:VTIMEZONE
BEGIN:VEVENT
DTSTART;TZID=America/Chicago:20240310T110000
DTEND;TZID=America/Chicago:20240310T190000
DTSTAMP:20260420T131540
CREATED:20231201T062315Z
LAST-MODIFIED:20240217T040748Z
UID:1541-1710068400-1710097200@tctamn.org
SUMMARY:Science Fair
DESCRIPTION: 
URL:https://tctamn.org/event/science-fair/
LOCATION:Minnetonka Community  Center\, 14600 Minnetonka Blvd\, Minnetonka\, United States
CATEGORIES:Education
ATTACH;FMTTYPE=image/jpeg:https://tctamn.org/wp-content/uploads/2023/12/science-fair-2024.jpg
ORGANIZER;CN="TwinCities Tamil Association":MAILTO:contactus@tctamn.org
END:VEVENT
BEGIN:VEVENT
DTSTART;TZID=America/Chicago:20240120T130000
DTEND;TZID=America/Chicago:20240120T200000
DTSTAMP:20260420T131540
CREATED:20231201T020101Z
LAST-MODIFIED:20240121T050520Z
UID:1456-1705755600-1705780800@tctamn.org
SUMMARY:Thamizhar Thiruvizha 2024
DESCRIPTION:TCTA invites everyone to come and celebrate Pongal with us and enjoy the topnotch cultural events\, food and unlimited fun.
URL:https://tctamn.org/event/thamizar-thiruvizha-2024/
LOCATION:Park Center Senior High School\, 7300 Brooklyn Blvd\, Brooklyn Park\, MN\, MN\, 55443\, United States
CATEGORIES:Festival
ATTACH;FMTTYPE=image/jpeg:https://tctamn.org/wp-content/uploads/2023/11/tcta-pongal-2024-banner2.jpg
ORGANIZER;CN="TwinCities Tamil Association":MAILTO:contactus@tctamn.org
END:VEVENT
END:VCALENDAR