BEGIN:VCALENDAR
VERSION:2.0
PRODID:-//TwinCities Tamil Association - ECPv6.15.20//NONSGML v1.0//EN
CALSCALE:GREGORIAN
METHOD:PUBLISH
X-ORIGINAL-URL:https://tctamn.org
X-WR-CALDESC:Events for TwinCities Tamil Association
REFRESH-INTERVAL;VALUE=DURATION:PT1H
X-Robots-Tag:noindex
X-PUBLISHED-TTL:PT1H
BEGIN:VTIMEZONE
TZID:America/Chicago
BEGIN:DAYLIGHT
TZOFFSETFROM:-0600
TZOFFSETTO:-0500
TZNAME:CDT
DTSTART:20240310T080000
END:DAYLIGHT
BEGIN:STANDARD
TZOFFSETFROM:-0500
TZOFFSETTO:-0600
TZNAME:CST
DTSTART:20241103T070000
END:STANDARD
BEGIN:DAYLIGHT
TZOFFSETFROM:-0600
TZOFFSETTO:-0500
TZNAME:CDT
DTSTART:20250309T080000
END:DAYLIGHT
BEGIN:STANDARD
TZOFFSETFROM:-0500
TZOFFSETTO:-0600
TZNAME:CST
DTSTART:20251102T070000
END:STANDARD
BEGIN:DAYLIGHT
TZOFFSETFROM:-0600
TZOFFSETTO:-0500
TZNAME:CDT
DTSTART:20260308T080000
END:DAYLIGHT
BEGIN:STANDARD
TZOFFSETFROM:-0500
TZOFFSETTO:-0600
TZNAME:CST
DTSTART:20261101T070000
END:STANDARD
END:VTIMEZONE
BEGIN:VEVENT
DTSTART;TZID=America/Chicago:20250518T130000
DTEND;TZID=America/Chicago:20250518T170000
DTSTAMP:20260419T170309
CREATED:20250426T015344Z
LAST-MODIFIED:20250426T022630Z
UID:4697-1747573200-1747587600@tctamn.org
SUMMARY:TCTP Graduation Day 2025
DESCRIPTION:Vanakkam\,\n\n\n\n\n\n\n\n\nWe had a great school year 2024-25. Please join us at the TCTP Graduation Day 2025 to celebrate together on Sunday\, May 18\, 2025.\n\n*****************************************\n\nEvent Highlights\n\n\n*****************************************\n\nTCTP 12th Graduation ceremony\n\nTCTP 2024-25 Course completion certificate distribution\nTCTP 2024-25 Perfect Attendance Award Winners\n\nTwincities Talent Competitions- 2025 Prize Distribution
URL:https://tctamn.org/event/tctp-graduation-day-2025/
LOCATION:Eisenhower Community Center\, 1001 MN-7\,\, Hopkins\, MN\, MN\, 55305\, United States
ATTACH;FMTTYPE=image/jpeg:https://tctamn.org/wp-content/uploads/2025/04/GRADIMG2025.jpg
ORGANIZER;CN="TwinCities Tamil Paadasalai":MAILTO:contactus@tctpmn.org
END:VEVENT
END:VCALENDAR