BEGIN:VCALENDAR
VERSION:2.0
PRODID:-//TwinCities Tamil Association - ECPv6.15.20//NONSGML v1.0//EN
CALSCALE:GREGORIAN
METHOD:PUBLISH
X-WR-CALNAME:TwinCities Tamil Association
X-ORIGINAL-URL:https://tctamn.org
X-WR-CALDESC:Events for TwinCities Tamil Association
REFRESH-INTERVAL;VALUE=DURATION:PT1H
X-Robots-Tag:noindex
X-PUBLISHED-TTL:PT1H
BEGIN:VTIMEZONE
TZID:America/Chicago
BEGIN:DAYLIGHT
TZOFFSETFROM:-0600
TZOFFSETTO:-0500
TZNAME:CDT
DTSTART:20240310T080000
END:DAYLIGHT
BEGIN:STANDARD
TZOFFSETFROM:-0500
TZOFFSETTO:-0600
TZNAME:CST
DTSTART:20241103T070000
END:STANDARD
BEGIN:DAYLIGHT
TZOFFSETFROM:-0600
TZOFFSETTO:-0500
TZNAME:CDT
DTSTART:20250309T080000
END:DAYLIGHT
BEGIN:STANDARD
TZOFFSETFROM:-0500
TZOFFSETTO:-0600
TZNAME:CST
DTSTART:20251102T070000
END:STANDARD
BEGIN:DAYLIGHT
TZOFFSETFROM:-0600
TZOFFSETTO:-0500
TZNAME:CDT
DTSTART:20260308T080000
END:DAYLIGHT
BEGIN:STANDARD
TZOFFSETFROM:-0500
TZOFFSETTO:-0600
TZNAME:CST
DTSTART:20261101T070000
END:STANDARD
END:VTIMEZONE
BEGIN:VEVENT
DTSTART;TZID=America/Chicago:20250316T120000
DTEND;TZID=America/Chicago:20250316T180000
DTSTAMP:20260419T200429
CREATED:20250201T142323Z
LAST-MODIFIED:20250201T143825Z
UID:4481-1742126400-1742148000@tctamn.org
SUMMARY:TCTA & TCTP Annual Science Fair 2025
DESCRIPTION:Registration Form \nWhat to Expect: \nExplore innovative projects from 100+ students across TCTA member and partner organization families. \nGain insights and inspiration from the incredible creativity on display! \nEvery student participant will receive a trophy to celebrate their efforts.
URL:https://tctamn.org/event/tcta-science-fair-2025/
LOCATION:Black Hawk Middle School\, Eagan\, 1540 Deerwood Dr\, \, MN\, Eagan\, MN\, 55122\, United States
ATTACH;FMTTYPE=image/jpeg:https://tctamn.org/wp-content/uploads/2025/02/SCIENCE-FAIR-2025-FEATURED.jpg
ORGANIZER;CN="TwinCities Tamil Association":MAILTO:contactus@tctamn.org
END:VEVENT
END:VCALENDAR