BEGIN:VCALENDAR
VERSION:2.0
PRODID:-//TwinCities Tamil Association - ECPv6.15.20//NONSGML v1.0//EN
CALSCALE:GREGORIAN
METHOD:PUBLISH
X-ORIGINAL-URL:https://tctamn.org
X-WR-CALDESC:Events for TwinCities Tamil Association
REFRESH-INTERVAL;VALUE=DURATION:PT1H
X-Robots-Tag:noindex
X-PUBLISHED-TTL:PT1H
BEGIN:VTIMEZONE
TZID:America/Chicago
BEGIN:DAYLIGHT
TZOFFSETFROM:-0600
TZOFFSETTO:-0500
TZNAME:CDT
DTSTART:20230312T080000
END:DAYLIGHT
BEGIN:STANDARD
TZOFFSETFROM:-0500
TZOFFSETTO:-0600
TZNAME:CST
DTSTART:20231105T070000
END:STANDARD
BEGIN:DAYLIGHT
TZOFFSETFROM:-0600
TZOFFSETTO:-0500
TZNAME:CDT
DTSTART:20240310T080000
END:DAYLIGHT
BEGIN:STANDARD
TZOFFSETFROM:-0500
TZOFFSETTO:-0600
TZNAME:CST
DTSTART:20241103T070000
END:STANDARD
BEGIN:DAYLIGHT
TZOFFSETFROM:-0600
TZOFFSETTO:-0500
TZNAME:CDT
DTSTART:20250309T080000
END:DAYLIGHT
BEGIN:STANDARD
TZOFFSETFROM:-0500
TZOFFSETTO:-0600
TZNAME:CST
DTSTART:20251102T070000
END:STANDARD
END:VTIMEZONE
BEGIN:VEVENT
DTSTART;TZID=America/Chicago:20240811T113000
DTEND;TZID=America/Chicago:20240811T170000
DTSTAMP:20260422T125333
CREATED:20240725T120025Z
LAST-MODIFIED:20240725T145143Z
UID:3015-1723375800-1723395600@tctamn.org
SUMMARY:Summer Picnic 2024
DESCRIPTION:One Unforgettable Day We were waiting for !\n  \nYou’re invited to the Twin Cities Summer Picnic 2024! \nHosted by the TwinCities Tamil Association\, this event promises fun for the whole family. \nPlease RSVP now to sign up for a potluck dish and indicate the number of attendees. Every family is encouraged to contribute at least one dish. \nTCTA Summer Picnic: TCTA / TCTP Summer Picnic 2024 (signupgenius.com) \n  \nEnjoy delicious food\, exciting games for kids and adults\, and great company! \nVerify your TCTA Membership and its Validity: Verify TCTA Membership \nNot an Active TCTA Member ? Buy New TCTA Membership or Donate! \n 
URL:https://tctamn.org/event/summer-picnic-2024/
LOCATION:Lake Minnewashta Regional Park\, 6900 Hazeltine Blvd.\, Chanhassen\, MN\, 55331\, United States
ATTACH;FMTTYPE=image/jpeg:https://tctamn.org/wp-content/uploads/2024/07/image_123650291.jpg
ORGANIZER;CN="TwinCities Tamil Association":MAILTO:contactus@tctamn.org
END:VEVENT
END:VCALENDAR